BEGIN:VCALENDAR
VERSION:2.0
PRODID:Big Bear Fire Department, CA Calendar Creator
METHOD:PUBLISH
BEGIN:VEVENT
DTSTAMP:20250717T160917
DTSTART:20250721T100000
DTEND:20250721T120000
SUMMARY:Ad Hoc Strategic Planning Committee Meeting
DESCRIPTION:
X-ALT-DESC;FMTTYPE=text/html:
LOCATION:Headquarters - Station 281\, 41090 Big Bear Blvd Big Bear Lake\, California 92315
CLASS:PUBLIC
END:VEVENT
END:VCALENDAR
