BEGIN:VCALENDAR
VERSION:2.0
PRODID:Big Bear Fire Department, CA Calendar Creator
METHOD:PUBLISH
BEGIN:VEVENT
DTSTAMP:20250102T131903
DTSTART:20250526T000000
DTEND:20250526T235900
SUMMARY:Memorial Day - Administrative Office Closed
DESCRIPTION:
X-ALT-DESC;FMTTYPE=text/html:
LOCATION:
CLASS:PUBLIC
END:VEVENT
END:VCALENDAR
